View In:
ArcGIS JavaScript
ArcGIS Online Map Viewer
ArcGIS Earth
ArcMap
View Footprint In:
ArcGIS Online Map Viewer
Service Description: Imagery was collected over several months in early 2022 in partnership with Santa Clara County. This service was created using MrSID files with updated extents received in March 2023.
The service is intended for map products focusing on the area in and immediately around the City of Mountain View.
Where the extents match, the imagery contained is expected to match the imagery in county REST service Ortho Imagery 2022 Limited Cities (https://www.arcgis.com/home/item.html?id=b9c857081abc4417a73fcb9ba71c41db). Metadata in that service pertinent to the collection process should apply here as well; lower (0.5-foot pixel) resolution applies primarily to bay area north of Shoreline Park.
Imagery here was selected from the end of the 11/21-3/22 collection period to balance two priorities affecting ground visibility: minimizing both foliage volume ("leaf-off") and shadow length.
Name: Aerial_2022
Description:
Single Fused Map Cache: false
Extent:
XMin: 6089999.999666661
YMin: 1953749.9996666668
XMax: 6117499.999666668
YMax: 1992499.9996666727
Spatial Reference: 103005
(6420)
Initial Extent:
XMin: 6089999.999666661
YMin: 1953749.9996666668
XMax: 6117499.999666668
YMax: 1992499.9996666727
Spatial Reference: 103005
(6420)
Full Extent:
XMin: 6089999.999666661
YMin: 1953749.9996666668
XMax: 6117499.999666668
YMax: 1992499.9996666727
Spatial Reference: 103005
(6420)
Pixel Size X: 0.25
Pixel Size Y: 0.25
Band Count: 4
Pixel Type: U8
RasterFunction Infos: {"rasterFunctionInfos": [{
"name": "None",
"description": "Make a Raster or Raster Dataset into a Function Raster Dataset.",
"help": ""
}]}
Mensuration Capabilities: None
Has Histograms: true
Has Colormap: false
Has Multi Dimensions : false
Rendering Rule:
Min Scale: 0
Max Scale: 0
Copyright Text:
Service Data Type: esriImageServiceDataTypeGeneric
Min Values: 0, 0, 0, 0
Max Values: 255, 255, 255, 255
Mean Values: 137.65739583333334, 137.62159090909105, 137.17708743842365, 154.39777806122441
Standard Deviation Values: 41.48385974103065, 35.47264325874098, 35.9888368224088, 37.88131975580868
Object ID Field: OBJECTID
Fields:
-
OBJECTID
(
type: esriFieldTypeOID, alias: OBJECTID
)
-
Name
(
type: esriFieldTypeString, alias: Name, length: 200
)
-
MinPS
(
type: esriFieldTypeDouble, alias: MinPS
)
-
MaxPS
(
type: esriFieldTypeDouble, alias: MaxPS
)
-
LowPS
(
type: esriFieldTypeDouble, alias: LowPS
)
-
HighPS
(
type: esriFieldTypeDouble, alias: HighPS
)
-
Category
(
type: esriFieldTypeInteger, alias: Category
,
Coded Values:
[0: Unknown]
,
[1: Primary]
,
[2: Overview]
, ...5 more...
)
-
Tag
(
type: esriFieldTypeString, alias: Tag, length: 100
)
-
GroupName
(
type: esriFieldTypeString, alias: GroupName, length: 100
)
-
ProductName
(
type: esriFieldTypeString, alias: ProductName, length: 100
)
-
CenterX
(
type: esriFieldTypeDouble, alias: CenterX
)
-
CenterY
(
type: esriFieldTypeDouble, alias: CenterY
)
-
ZOrder
(
type: esriFieldTypeInteger, alias: ZOrder
)
-
Shape
(
type: esriFieldTypeGeometry, alias: Shape
)
Default Mosaic Method: Northwest
Allowed Mosaic Methods: NorthWest,Center,LockRaster,ByAttribute,Nadir,Viewpoint,Seamline,None
SortField:
SortValue: null
Mosaic Operator: First
Default Compression Quality: 75
Default Resampling Method: Bilinear
Max Record Count: 1000
Max Image Height: 4100
Max Image Width: 15000
Max Download Image Count: 20
Max Mosaic Image Count: 20
Allow Raster Function: true
Allow Compute TiePoints: false
Supports Statistics: true
Supports Advanced Queries: true
Use StandardizedQueries: true
Raster Type Infos:
Name: Raster Dataset
Description: Supports all ArcGIS Raster Datasets
Help:
Has Raster Attribute Table: false
Edit Fields Info: null
Ownership Based AccessControl For Rasters: null
Child Resources:
Info
Histograms
Key Properties
Legend
MultiDimensionalInfo
rasterFunctionInfos
Supported Operations:
Export Image
Query
Identify
Compute Histograms
Compute Statistics Histograms
Get Samples
Compute Class Statistics
Query Boundary
Compute Pixel Location