{
 "currentVersion": 11.4,
 "cimVersion": "3.4.0",
 "serviceDescription": "This is a legacy, general purpose tile basemap with minimal layers. Layer choices and appearance were adjusted to reduce loadtime.",
 "mapName": "City Basemap, Street Level (WGS)",
 "description": "This is a legacy, general purpose tile basemap with minimal layers. Layer choices and appearance were adjusted to reduce loadtime. ",
 "copyrightText": "",
 "supportsDynamicLayers": false,
 "layers": [
  {
   "id": 0,
   "name": "City",
   "parentLayerId": -1,
   "defaultVisibility": true,
   "subLayerIds": [
    1,
    17,
    33,
    49,
    65,
    81,
    96,
    107,
    115,
    122
   ],
   "minScale": 0,
   "maxScale": 0,
   "type": "Group Layer",
   "supportsDynamicLegends": false
  },
  {
   "id": 1,
   "name": "140",
   "parentLayerId": 0,
   "defaultVisibility": true,
   "subLayerIds": [
    2,
    3,
    4,
    5,
    6,
    7,
    8,
    9,
    10,
    11,
    12,
    13,
    14,
    15,
    16
   ],
   "minScale": 150,
   "maxScale": 0,
   "type": "Group Layer",
   "supportsDynamicLegends": false
  },
  {
   "id": 17,
   "name": "280",
   "parentLayerId": 0,
   "defaultVisibility": true,
   "subLayerIds": [
    18,
    19,
    20,
    21,
    22,
    23,
    24,
    25,
    26,
    27,
    28,
    29,
    30,
    31,
    32
   ],
   "minScale": 350,
   "maxScale": 151,
   "type": "Group Layer",
   "supportsDynamicLegends": false
  },
  {
   "id": 33,
   "name": "560",
   "parentLayerId": 0,
   "defaultVisibility": true,
   "subLayerIds": [
    34,
    35,
    36,
    37,
    38,
    39,
    40,
    41,
    42,
    43,
    44,
    45,
    46,
    47,
    48
   ],
   "minScale": 750,
   "maxScale": 351,
   "type": "Group Layer",
   "supportsDynamicLegends": false
  },
  {
   "id": 49,
   "name": "1K",
   "parentLayerId": 0,
   "defaultVisibility": true,
   "subLayerIds": [
    50,
    51,
    52,
    53,
    54,
    55,
    56,
    57,
    58,
    59,
    60,
    61,
    62,
    63,
    64
   ],
   "minScale": 1600,
   "maxScale": 751,
   "type": "Group Layer",
   "supportsDynamicLegends": false
  },
  {
   "id": 65,
   "name": "2K",
   "parentLayerId": 0,
   "defaultVisibility": true,
   "subLayerIds": [
    66,
    67,
    68,
    69,
    70,
    71,
    72,
    73,
    74,
    75,
    76,
    77,
    78,
    79,
    80
   ],
   "minScale": 2500,
   "maxScale": 1601,
   "type": "Group Layer",
   "supportsDynamicLegends": false
  },
  {
   "id": 81,
   "name": "4K",
   "parentLayerId": 0,
   "defaultVisibility": true,
   "subLayerIds": [
    82,
    83,
    84,
    85,
    86,
    87,
    88,
    89,
    90,
    91,
    92,
    93,
    94,
    95
   ],
   "minScale": 5000,
   "maxScale": 2501,
   "type": "Group Layer",
   "supportsDynamicLegends": false
  },
  {
   "id": 96,
   "name": "9K",
   "parentLayerId": 0,
   "defaultVisibility": true,
   "subLayerIds": [
    97,
    98,
    99,
    100,
    101,
    102,
    103,
    104,
    105,
    106
   ],
   "minScale": 15000,
   "maxScale": 5001,
   "type": "Group Layer",
   "supportsDynamicLegends": false
  },
  {
   "id": 107,
   "name": "18K",
   "parentLayerId": 0,
   "defaultVisibility": true,
   "subLayerIds": [
    108,
    109,
    110,
    111,
    112,
    113,
    114
   ],
   "minScale": 25000,
   "maxScale": 15001,
   "type": "Group Layer",
   "supportsDynamicLegends": false
  },
  {
   "id": 115,
   "name": "36K",
   "parentLayerId": 0,
   "defaultVisibility": true,
   "subLayerIds": [
    116,
    117,
    118,
    119,
    120,
    121
   ],
   "minScale": 50000,
   "maxScale": 25001,
   "type": "Group Layer",
   "supportsDynamicLegends": false
  },
  {
   "id": 122,
   "name": "72K",
   "parentLayerId": 0,
   "defaultVisibility": true,
   "subLayerIds": [
    123,
    124,
    125,
    126,
    127
   ],
   "minScale": 100000,
   "maxScale": 50001,
   "type": "Group Layer",
   "supportsDynamicLegends": false
  }
 ],
 "tables": [],
 "spatialReference": {
  "wkid": 102100,
  "latestWkid": 3857,
  "xyTolerance": 0.001,
  "zTolerance": 0.001,
  "mTolerance": 0.001,
  "falseX": -20037700,
  "falseY": -30241100,
  "xyUnits": 10000,
  "falseZ": -100000,
  "zUnits": 10000,
  "falseM": -100000,
  "mUnits": 10000
 },
 "singleFusedMapCache": true,
 "tileInfo": {
  "rows": 256,
  "cols": 256,
  "dpi": 96,
  "format": "MIXED",
  "compressionQuality": 75,
  "origin": {
   "x": -20037700,
   "y": 30241100
  },
  "spatialReference": {
   "wkid": 102100,
   "latestWkid": 3857,
   "xyTolerance": 0.001,
   "zTolerance": 0.001,
   "mTolerance": 0.001,
   "falseX": -20037700,
   "falseY": -30241100,
   "xyUnits": 10000,
   "falseZ": -100000,
   "zUnits": 10000,
   "falseM": -100000,
   "mUnits": 10000
  },
  "lods": [
   {
    "level": 0,
    "resolution": 16.933367200067735,
    "scale": 64000
   },
   {
    "level": 1,
    "resolution": 8.466683600033868,
    "scale": 32000
   },
   {
    "level": 2,
    "resolution": 4.233341800016934,
    "scale": 16000
   },
   {
    "level": 3,
    "resolution": 2.116670900008467,
    "scale": 8000
   },
   {
    "level": 4,
    "resolution": 1.0583354500042335,
    "scale": 4000
   },
   {
    "level": 5,
    "resolution": 0.5291677250021167,
    "scale": 2000
   },
   {
    "level": 6,
    "resolution": 0.26458386250105836,
    "scale": 1000
   },
   {
    "level": 7,
    "resolution": 0.13229193125052918,
    "scale": 500
   },
   {
    "level": 8,
    "resolution": 0.06614596562526459,
    "scale": 250
   }
  ]
 },
 "storageInfo": {
  "storageFormat": "esriMapCacheStorageModeCompactV2",
  "packetSize": 128
 },
 "initialExtent": {
  "xmin": -1.35956651569416E7,
  "ymin": 4490351.859905395,
  "xmax": -1.3580928417980302E7,
  "ymax": 4504271.22672202,
  "spatialReference": {
   "cs": "pcs",
   "wkid": 102100
  }
 },
 "fullExtent": {
  "xmin": -1.3606278454252677E7,
  "ymin": 4483846.855355532,
  "xmax": -1.3572318543991692E7,
  "ymax": 4505499.143828803,
  "spatialReference": {
   "cs": "pcs",
   "wkid": 102100
  }
 },
 "datesInUnknownTimezone": false,
 "minScale": 64000,
 "maxScale": 250,
 "maxLOD": 8,
 "units": "esriMeters",
 "supportedImageFormatTypes": "PNG32,PNG24,PNG,JPG,DIB,TIFF,EMF,PS,PDF,GIF,SVG,SVGZ,BMP",
 "documentInfo": {
  "Title": "City Basemap, Street Level (WGS)",
  "Author": "",
  "Comments": "This is a legacy, general purpose tile basemap with minimal layers. Layer choices and appearance were adjusted to reduce loadtime. ",
  "Subject": "City Basemap for Street Level Map",
  "Category": "",
  "Version": "3.4.0",
  "AntialiasingMode": "Fastest",
  "TextAntialiasingMode": "Force",
  "Keywords": "basemap,wgs,tile layer"
 },
 "supportsQueryDomains": true,
 "capabilities": "Map",
 "supportedQueryFormats": "JSON, geoJSON, PBF",
 "exportTilesAllowed": false,
 "referenceScale": 0.0,
 "datumTransformations": [
  {
   "geoTransforms": [
    {
     "wkid": 108363,
     "latestWkid": 108363,
     "transformForward": false,
     "name": "WGS_1984_(ITRF08)_To_NAD_1983_2011"
    }
   ]
  }
 ],
 "supportsDatumTransformation": true,
 "archivingInfo": {
  "supportsHistoricMoment": false
 },
 "supportsClipping": true,
 "supportsSpatialFilter": true,
 "supportsTimeRelation": true,
 "supportsQueryDataElements": true,
 "mapUnits": {
  "uwkid": 9001
 },
 "maxSelectionCount": 2000,
 "maxRecordCount": 1000,
 "maxImageHeight": 4096,
 "maxImageWidth": 4096,
 "supportedExtensions": "",
 "resampling": false
}
